Package: CytoDx Version: 1.31.0 Command: /home/biocbuild/bbs-3.23-bioc/R/bin/R CMD INSTALL CytoDx StartedAt: 2025-11-20 15:13:04 -0500 (Thu, 20 Nov 2025) EndedAt: 2025-11-20 15:13:17 -0500 (Thu, 20 Nov 2025) EllapsedTime: 13.1 seconds RetCode: 0 Status: OK