Package: CytoDx Version: 1.29.0 Command: /Library/Frameworks/R.framework/Resources/bin/R CMD INSTALL CytoDx StartedAt: 2025-10-12 15:16:50 -0400 (Sun, 12 Oct 2025) EndedAt: 2025-10-12 15:17:05 -0400 (Sun, 12 Oct 2025) EllapsedTime: 15.5 seconds RetCode: 0 Status: OK