Package: CytoDx Version: 1.29.0 Command: /Library/Frameworks/R.framework/Resources/bin/R CMD build --keep-empty-dirs --no-resave-data CytoDx StartedAt: 2025-10-13 16:42:39 -0400 (Mon, 13 Oct 2025) EndedAt: 2025-10-13 16:43:18 -0400 (Mon, 13 Oct 2025) EllapsedTime: 38.9 seconds RetCode: 0 Status: OK PackageFile: CytoDx_1.29.0.tar.gz PackageFileSize: 660.7 KiB