Package: CytoDx Version: 1.29.0 Command: rm -rf CytoDx.buildbin-libdir && mkdir CytoDx.buildbin-libdir && /Users/biocbuild/BBS/utils/build-universal.sh CytoDx_1.29.0.tar.gz /Library/Frameworks/R.framework/Resources/bin/R CytoDx.buildbin-libdir StartedAt: 2025-10-13 02:28:22 -0400 (Mon, 13 Oct 2025) EndedAt: 2025-10-13 02:28:40 -0400 (Mon, 13 Oct 2025) EllapsedTime: 18.3 seconds RetCode: 0 Status: OK PackageFile: CytoDx_1.29.0.tgz PackageFileSize: 514.8 KiB