Package: CytoDx Version: 1.29.0 Command: /Library/Frameworks/R.framework/Resources/bin/R CMD build --keep-empty-dirs --no-resave-data CytoDx StartedAt: 2025-09-29 16:04:38 -0400 (Mon, 29 Sep 2025) EndedAt: 2025-09-29 16:04:47 -0400 (Mon, 29 Sep 2025) EllapsedTime: 9.1 seconds RetCode: 0 Status: OK PackageFile: CytoDx_1.29.0.tar.gz PackageFileSize: 660.6 KiB