Package: CyTOFpower Version: 1.15.0 Command: /home/biocbuild/R/R/bin/R CMD build --keep-empty-dirs --no-resave-data CyTOFpower StartedAt: 2025-10-06 23:02:30 -0000 (Mon, 06 Oct 2025) EndedAt: 2025-10-06 23:02:40 -0000 (Mon, 06 Oct 2025) EllapsedTime: 10.0 seconds RetCode: 0 Status: OK PackageFile: CyTOFpower_1.15.0.tar.gz PackageFileSize: 338.6 KiB