Package: CyTOFpower Version: 1.15.0 Command: /home/biocbuild/bbs-3.22-bioc/R/bin/R CMD check --install=check:CyTOFpower.install-out.txt --library=/home/biocbuild/bbs-3.22-bioc/R/site-library --timings CyTOFpower_1.15.0.tar.gz StartedAt: 2025-09-29 23:06:20 -0400 (Mon, 29 Sep 2025) EndedAt: 2025-09-29 23:07:24 -0400 (Mon, 29 Sep 2025) EllapsedTime: 64.0 seconds RetCode: 0 Status: OK CheckDir: CyTOFpower.Rcheck Warnings: 0