Package: CyTOFpower Version: 1.17.0 Command: /home/biocbuild/bbs-3.23-bioc/R/bin/R CMD INSTALL CyTOFpower StartedAt: 2025-11-20 15:30:30 -0500 (Thu, 20 Nov 2025) EndedAt: 2025-11-20 15:30:36 -0500 (Thu, 20 Nov 2025) EllapsedTime: 6.1 seconds RetCode: 0 Status: OK