Package: CuratedAtlasQueryR Version: 1.9.0 Command: /home/biocbuild/bbs-3.23-bioc/R/bin/R CMD INSTALL CuratedAtlasQueryR StartedAt: 2025-11-05 15:42:12 -0500 (Wed, 05 Nov 2025) EndedAt: 2025-11-05 15:42:50 -0500 (Wed, 05 Nov 2025) EllapsedTime: 38.2 seconds RetCode: 0 Status: OK