Package: CuratedAtlasQueryR Version: 1.9.0 Command: /home/biocbuild/bbs-3.23-bioc/R/bin/R CMD check --install=check:CuratedAtlasQueryR.install-out.txt --library=/home/biocbuild/bbs-3.23-bioc/R/site-library --timings CuratedAtlasQueryR_1.9.0.tar.gz StartedAt: 2025-11-05 22:27:58 -0500 (Wed, 05 Nov 2025) EndedAt: 2025-11-05 22:34:37 -0500 (Wed, 05 Nov 2025) EllapsedTime: 398.5 seconds RetCode: 0 Status: OK CheckDir: CuratedAtlasQueryR.Rcheck Warnings: 0