Package: CrispRVariants Version: 1.39.0 Command: /home/biocbuild/bbs-3.23-bioc/R/bin/R CMD INSTALL CrispRVariants StartedAt: 2025-11-05 15:32:30 -0500 (Wed, 05 Nov 2025) EndedAt: 2025-11-05 15:33:14 -0500 (Wed, 05 Nov 2025) EllapsedTime: 44.1 seconds RetCode: 0 Status: OK