Package: CrispRVariants Version: 1.39.0 Command: /home/biocbuild/bbs-3.23-bioc/R/bin/R CMD build --keep-empty-dirs --no-resave-data CrispRVariants StartedAt: 2025-11-05 17:06:07 -0500 (Wed, 05 Nov 2025) EndedAt: 2025-11-05 17:08:19 -0500 (Wed, 05 Nov 2025) EllapsedTime: 132.1 seconds RetCode: 0 Status: OK PackageFile: CrispRVariants_1.39.0.tar.gz PackageFileSize: 3.601 MiB