Package: CrispRVariants Version: 1.37.0 Command: /Library/Frameworks/R.framework/Resources/bin/R CMD build --keep-empty-dirs --no-resave-data CrispRVariants StartedAt: 2025-10-15 16:38:18 -0400 (Wed, 15 Oct 2025) EndedAt: 2025-10-15 16:41:36 -0400 (Wed, 15 Oct 2025) EllapsedTime: 198.3 seconds RetCode: 0 Status: OK PackageFile: CrispRVariants_1.37.0.tar.gz PackageFileSize: 3.52 MiB