Package: CrispRVariants Version: 1.37.0 Command: rm -rf CrispRVariants.buildbin-libdir && mkdir CrispRVariants.buildbin-libdir && /Users/biocbuild/BBS/utils/build-universal.sh CrispRVariants_1.37.0.tar.gz /Library/Frameworks/R.framework/Resources/bin/R CrispRVariants.buildbin-libdir StartedAt: 2025-10-18 02:52:38 -0400 (Sat, 18 Oct 2025) EndedAt: 2025-10-18 02:53:44 -0400 (Sat, 18 Oct 2025) EllapsedTime: 66.0 seconds RetCode: 0 Status: OK PackageFile: CrispRVariants_1.37.0.tgz PackageFileSize: 3.938 MiB