Package: CrispRVariants Version: 1.37.0 Command: /Library/Frameworks/R.framework/Resources/bin/R CMD build --keep-empty-dirs --no-resave-data CrispRVariants StartedAt: 2025-10-10 16:05:08 -0400 (Fri, 10 Oct 2025) EndedAt: 2025-10-10 16:05:57 -0400 (Fri, 10 Oct 2025) EllapsedTime: 49.5 seconds RetCode: 0 Status: OK PackageFile: CrispRVariants_1.37.0.tar.gz PackageFileSize: 3.514 MiB