Package: CoverageView Version: 1.49.0 Command: /home/biocbuild/bbs-3.23-bioc/R/bin/R CMD INSTALL CoverageView StartedAt: 2025-11-03 15:26:48 -0500 (Mon, 03 Nov 2025) EndedAt: 2025-11-03 15:27:19 -0500 (Mon, 03 Nov 2025) EllapsedTime: 30.3 seconds RetCode: 0 Status: OK