Package: CoverageView Version: 1.49.0 Command: /home/biocbuild/bbs-3.23-bioc/R/bin/R CMD check --install=check:CoverageView.install-out.txt --library=/home/biocbuild/bbs-3.23-bioc/R/site-library --timings CoverageView_1.49.0.tar.gz StartedAt: 2025-11-05 22:19:56 -0500 (Wed, 05 Nov 2025) EndedAt: 2025-11-05 22:23:44 -0500 (Wed, 05 Nov 2025) EllapsedTime: 228.3 seconds RetCode: 0 Status: WARNINGS CheckDir: CoverageView.Rcheck Warnings: 1