Package: CoverageView Version: 1.49.0 Command: /home/biocbuild/bbs-3.23-bioc/R/bin/R CMD build --keep-empty-dirs --no-resave-data CoverageView StartedAt: 2025-11-03 16:56:24 -0500 (Mon, 03 Nov 2025) EndedAt: 2025-11-03 16:57:12 -0500 (Mon, 03 Nov 2025) EllapsedTime: 48.0 seconds RetCode: 0 Status: OK PackageFile: CoverageView_1.49.0.tar.gz PackageFileSize: 2.611 MiB