Package: CoverageView Version: 1.47.0 Command: /Library/Frameworks/R.framework/Resources/bin/R CMD check --install=check:CoverageView.install-out.txt --library=/Library/Frameworks/R.framework/Resources/library --no-vignettes --timings CoverageView_1.47.0.tar.gz StartedAt: 2025-10-14 19:32:30 -0400 (Tue, 14 Oct 2025) EndedAt: 2025-10-14 19:34:03 -0400 (Tue, 14 Oct 2025) EllapsedTime: 93.1 seconds RetCode: 0 Status: WARNINGS CheckDir: CoverageView.Rcheck Warnings: 1