Package: Cormotif Version: 1.57.0 Command: /home/biocbuild/bbs-3.23-bioc/R/bin/R CMD INSTALL Cormotif StartedAt: 2025-11-20 15:12:11 -0500 (Thu, 20 Nov 2025) EndedAt: 2025-11-20 15:12:16 -0500 (Thu, 20 Nov 2025) EllapsedTime: 4.4 seconds RetCode: 0 Status: OK