Package: Cormotif Version: 1.55.0 Command: /Library/Frameworks/R.framework/Resources/bin/R CMD INSTALL Cormotif StartedAt: 2025-10-14 15:07:22 -0400 (Tue, 14 Oct 2025) EndedAt: 2025-10-14 15:07:25 -0400 (Tue, 14 Oct 2025) EllapsedTime: 3.0 seconds RetCode: 0 Status: OK