Package: Cormotif Version: 1.55.0 Command: rm -rf Cormotif.buildbin-libdir && mkdir Cormotif.buildbin-libdir && /Users/biocbuild/BBS/utils/build-universal.sh Cormotif_1.55.0.tar.gz /Library/Frameworks/R.framework/Resources/bin/R Cormotif.buildbin-libdir StartedAt: 2025-10-17 23:04:04 -0400 (Fri, 17 Oct 2025) EndedAt: 2025-10-17 23:04:07 -0400 (Fri, 17 Oct 2025) EllapsedTime: 3.0 seconds RetCode: 0 Status: OK PackageFile: Cormotif_1.55.0.tgz PackageFileSize: 431 KiB