Package: CoreGx Version: 2.13.0 Command: /home/biocbuild/R/R/bin/R CMD INSTALL CoreGx StartedAt: 2025-09-29 20:56:12 -0000 (Mon, 29 Sep 2025) EndedAt: 2025-09-29 20:57:05 -0000 (Mon, 29 Sep 2025) EllapsedTime: 52.2 seconds RetCode: 0 Status: OK