Package: CoreGx Version: 2.13.0 Command: /home/biocbuild/R/R/bin/R CMD build --keep-empty-dirs --no-resave-data CoreGx StartedAt: 2025-09-29 23:07:01 -0000 (Mon, 29 Sep 2025) EndedAt: 2025-09-29 23:08:19 -0000 (Mon, 29 Sep 2025) EllapsedTime: 78.0 seconds RetCode: 0 Status: OK PackageFile: CoreGx_2.13.0.tar.gz PackageFileSize: 1.387 MiB