Package: CoreGx Version: 2.13.0 Command: chmod a+r CoreGx -R && F:\biocbuild\bbs-3.22-bioc\R\bin\R.exe CMD build --keep-empty-dirs --no-resave-data CoreGx StartedAt: 2025-08-14 19:18:49 -0400 (Thu, 14 Aug 2025) EndedAt: 2025-08-14 19:20:46 -0400 (Thu, 14 Aug 2025) EllapsedTime: 116.7 seconds RetCode: 0 Status: OK PackageFile: CoreGx_2.13.0.tar.gz PackageFileSize: 1.365 MiB