Package: CoreGx Version: 2.13.0 Command: rm -rf CoreGx.buildbin-libdir && mkdir CoreGx.buildbin-libdir && F:\biocbuild\bbs-3.22-bioc\R\bin\R.exe CMD INSTALL --build --library=CoreGx.buildbin-libdir CoreGx_2.13.0.tar.gz StartedAt: 2025-08-15 10:01:44 -0400 (Fri, 15 Aug 2025) EndedAt: 2025-08-15 10:04:55 -0400 (Fri, 15 Aug 2025) EllapsedTime: 190.5 seconds RetCode: 0 Status: OK PackageFile: CoreGx_2.13.0.zip PackageFileSize: 2.431 MiB