Package: CoreGx Version: 2.15.0 Command: /home/biocbuild/bbs-3.23-bioc/R/bin/R CMD INSTALL CoreGx StartedAt: 2025-11-04 15:22:21 -0500 (Tue, 04 Nov 2025) EndedAt: 2025-11-04 15:22:58 -0500 (Tue, 04 Nov 2025) EllapsedTime: 37.4 seconds RetCode: 0 Status: OK