Package: CoreGx Version: 2.15.0 Command: /home/biocbuild/bbs-3.23-bioc/R/bin/R CMD build --keep-empty-dirs --no-resave-data CoreGx StartedAt: 2025-11-05 17:02:26 -0500 (Wed, 05 Nov 2025) EndedAt: 2025-11-05 17:03:22 -0500 (Wed, 05 Nov 2025) EllapsedTime: 56.0 seconds RetCode: 0 Status: OK PackageFile: CoreGx_2.15.0.tar.gz PackageFileSize: 1.364 MiB