Back to Build/check report for BioC 3.23:   simplified   long
AB[C]DEFGHIJKLMNOPQRSTUVWXYZ

This page was generated on 2025-11-05 11:32 -0500 (Wed, 05 Nov 2025).

HostnameOSArch (*)R versionInstalled pkgs
nebbiolo1Linux (Ubuntu 24.04.3 LTS)x86_64R Under development (unstable) (2025-10-20 r88955) -- "Unsuffered Consequences" 4818
Click on any hostname to see more info about the system (e.g. compilers)      (*) as reported by 'uname -p', except on Windows and Mac OS X

All results for package CoreGx


To the developers/maintainers of the CoreGx package:
- Allow up to 24 hours (and sometimes 48 hours) for your latest push to git@git.bioconductor.org:packages/CoreGx.git to reflect on this report. See Troubleshooting Build Report for more information.
- Use the following Renviron settings to reproduce errors and warnings.
- If 'R CMD check' started to fail recently on the Linux builder(s) over a missing dependency, add the missing dependency to 'Suggests:' in your DESCRIPTION file. See Renviron.bioc for more information.

raw results

Package 442/2323HostnameOS / ArchINSTALLBUILDCHECKBUILD BIN
CoreGx 2.15.0  (landing page)
Benjamin Haibe-Kains
Snapshot Date: 2025-11-04 13:40 -0500 (Tue, 04 Nov 2025)
git_url: https://git.bioconductor.org/packages/CoreGx
git_branch: devel
git_last_commit: e18fa83
git_last_commit_date: 2025-10-29 10:59:21 -0500 (Wed, 29 Oct 2025)
nebbiolo1Linux (Ubuntu 24.04.3 LTS) / x86_64  OK    OK    OK  UNNEEDED, same version is already published



Results for Bioconductor software packages that depend directly on package CoreGx

QUICK STATSOS / ArchINSTALLBUILDCHECKBUILD BIN
nebbiolo1Linux (Ubuntu 24.04.3 LTS) / x86_64
005
005
0014
Package 1/5HostnameOS / ArchINSTALLBUILDCHECKBUILD BIN
gDRimport 1.9.1  (landing page)
Arkadiusz Gladki
git_last_commit: 16632cf
git_last_commit_date: 2025-10-30 05:32:55 -0500
nebbiolo1Linux (Ubuntu 24.04.3 LTS) / x86_64  OK    OK    OK  UNNEEDED, same version is already published
Package 2/5HostnameOS / ArchINSTALLBUILDCHECKBUILD BIN
PDATK 1.19.0  (landing page)
Benjamin Haibe-Kains
git_last_commit: 16dbbfe
git_last_commit_date: 2025-10-29 11:06:36 -0500
nebbiolo1Linux (Ubuntu 24.04.3 LTS) / x86_64  OK    OK    WARNINGS  UNNEEDED, same version is already published
Package 3/5HostnameOS / ArchINSTALLBUILDCHECKBUILD BIN
PharmacoGx 3.15.0  (landing page)
Benjamin Haibe-Kains
git_last_commit: a1fade5
git_last_commit_date: 2025-10-29 10:33:56 -0500
nebbiolo1Linux (Ubuntu 24.04.3 LTS) / x86_64  OK    OK    OK  UNNEEDED, same version is already published
Package 4/5HostnameOS / ArchINSTALLBUILDCHECKBUILD BIN
RadioGx 2.15.0  (landing page)
Benjamin Haibe-Kains
git_last_commit: 3cfa0fd
git_last_commit_date: 2025-10-29 11:00:09 -0500
nebbiolo1Linux (Ubuntu 24.04.3 LTS) / x86_64  OK    OK    OK  UNNEEDED, same version is already published
Package 5/5HostnameOS / ArchINSTALLBUILDCHECKBUILD BIN
ToxicoGx 2.15.0  (landing page)
Benjamin Haibe-Kains
git_last_commit: 0781b14
git_last_commit_date: 2025-10-29 11:00:15 -0500
nebbiolo1Linux (Ubuntu 24.04.3 LTS) / x86_64  OK    OK    OK  UNNEEDED, same version is already published