Package: Coralysis Version: 0.99.10 Command: /home/biocbuild/bbs-3.22-bioc/R/bin/R CMD INSTALL Coralysis StartedAt: 2025-10-08 16:17:33 -0400 (Wed, 08 Oct 2025) EndedAt: 2025-10-08 16:18:22 -0400 (Wed, 08 Oct 2025) EllapsedTime: 48.3 seconds RetCode: 0 Status: OK