Package: Coralysis Version: 0.99.10 Command: /home/biocbuild/bbs-3.22-bioc/R/bin/R CMD build --keep-empty-dirs --no-resave-data --md5 Coralysis StartedAt: 2025-10-08 17:20:27 -0400 (Wed, 08 Oct 2025) EndedAt: 2025-10-08 17:33:24 -0400 (Wed, 08 Oct 2025) EllapsedTime: 776.8 seconds RetCode: 0 Status: OK PackageFile: Coralysis_0.99.10.tar.gz PackageFileSize: 11.51 MiB