Package: CopyNumberPlots Version: 1.25.0 Command: chmod a+r CopyNumberPlots -R && F:\biocbuild\bbs-3.22-bioc\R\bin\R.exe CMD build --keep-empty-dirs --no-resave-data CopyNumberPlots StartedAt: 2025-08-14 19:18:39 -0400 (Thu, 14 Aug 2025) EndedAt: 2025-08-14 19:20:43 -0400 (Thu, 14 Aug 2025) EllapsedTime: 123.4 seconds RetCode: 0 Status: OK PackageFile: CopyNumberPlots_1.25.0.tar.gz PackageFileSize: 804.2 KiB