Package: CopyNumberPlots Version: 1.25.0 Command: rm -rf CopyNumberPlots.buildbin-libdir && mkdir CopyNumberPlots.buildbin-libdir && F:\biocbuild\bbs-3.22-bioc\R\bin\R.exe CMD INSTALL --build --library=CopyNumberPlots.buildbin-libdir CopyNumberPlots_1.25.0.tar.gz StartedAt: 2025-08-15 10:01:36 -0400 (Fri, 15 Aug 2025) EndedAt: 2025-08-15 10:03:54 -0400 (Fri, 15 Aug 2025) EllapsedTime: 137.7 seconds RetCode: 0 Status: OK PackageFile: CopyNumberPlots_1.25.0.zip PackageFileSize: 936.6 KiB