Package: CopyNumberPlots Version: 1.27.0 Command: /home/biocbuild/bbs-3.23-bioc/R/bin/R CMD INSTALL CopyNumberPlots StartedAt: 2025-11-04 15:43:33 -0500 (Tue, 04 Nov 2025) EndedAt: 2025-11-04 15:44:21 -0500 (Tue, 04 Nov 2025) EllapsedTime: 48.3 seconds RetCode: 0 Status: OK