Package: CopyNumberPlots Version: 1.27.0 Command: /home/biocbuild/bbs-3.23-bioc/R/bin/R CMD build --keep-empty-dirs --no-resave-data CopyNumberPlots StartedAt: 2025-11-04 16:54:43 -0500 (Tue, 04 Nov 2025) EndedAt: 2025-11-04 16:56:17 -0500 (Tue, 04 Nov 2025) EllapsedTime: 94.1 seconds RetCode: 0 Status: OK PackageFile: CopyNumberPlots_1.27.0.tar.gz PackageFileSize: 1.769 MiB