Package: ConsensusClusterPlus Version: 1.75.0 Command: /home/biocbuild/bbs-3.23-bioc/R/bin/R CMD check --install=check:ConsensusClusterPlus.install-out.txt --library=/home/biocbuild/bbs-3.23-bioc/R/site-library --timings ConsensusClusterPlus_1.75.0.tar.gz StartedAt: 2025-11-07 22:13:00 -0500 (Fri, 07 Nov 2025) EndedAt: 2025-11-07 22:13:30 -0500 (Fri, 07 Nov 2025) EllapsedTime: 30.1 seconds RetCode: 0 Status: OK CheckDir: ConsensusClusterPlus.Rcheck Warnings: 0