Package: ConsensusClusterPlus Version: 1.75.0 Command: /home/biocbuild/bbs-3.23-bioc/R/bin/R CMD build --keep-empty-dirs --no-resave-data ConsensusClusterPlus StartedAt: 2025-11-07 16:55:06 -0500 (Fri, 07 Nov 2025) EndedAt: 2025-11-07 16:55:16 -0500 (Fri, 07 Nov 2025) EllapsedTime: 10.0 seconds RetCode: 0 Status: OK PackageFile: ConsensusClusterPlus_1.75.0.tar.gz PackageFileSize: 408.6 KiB