Package: CompoundDb Version: 1.15.0 Command: /home/biocbuild/bbs-3.23-bioc/R/bin/R CMD INSTALL CompoundDb StartedAt: 2025-11-07 15:36:30 -0500 (Fri, 07 Nov 2025) EndedAt: 2025-11-07 15:36:50 -0500 (Fri, 07 Nov 2025) EllapsedTime: 20.5 seconds RetCode: 0 Status: OK