Package: CompoundDb Version: 1.15.0 Command: /home/biocbuild/bbs-3.23-bioc/R/bin/R CMD check --install=check:CompoundDb.install-out.txt --library=/home/biocbuild/bbs-3.23-bioc/R/site-library --timings CompoundDb_1.15.0.tar.gz StartedAt: 2025-11-11 22:20:43 -0500 (Tue, 11 Nov 2025) EndedAt: 2025-11-11 22:23:30 -0500 (Tue, 11 Nov 2025) EllapsedTime: 167.2 seconds RetCode: 0 Status: OK CheckDir: CompoundDb.Rcheck Warnings: 0