Package: ComplexHeatmap Version: 2.25.2 Command: /home/biocbuild/R/R/bin/R CMD INSTALL ComplexHeatmap StartedAt: 2025-10-06 20:26:07 -0000 (Mon, 06 Oct 2025) EndedAt: 2025-10-06 20:26:38 -0000 (Mon, 06 Oct 2025) EllapsedTime: 30.3 seconds RetCode: 0 Status: OK