Package: ComplexHeatmap Version: 2.25.2 Command: /home/biocbuild/R/R/bin/R CMD build --keep-empty-dirs --no-resave-data ComplexHeatmap StartedAt: 2025-10-06 22:48:15 -0000 (Mon, 06 Oct 2025) EndedAt: 2025-10-06 22:49:01 -0000 (Mon, 06 Oct 2025) EllapsedTime: 46.0 seconds RetCode: 0 Status: OK PackageFile: ComplexHeatmap_2.25.2.tar.gz PackageFileSize: 1.364 MiB