Package: ComplexHeatmap Version: 2.27.0 Command: /home/biocbuild/bbs-3.23-bioc/R/bin/R CMD check --install=check:ComplexHeatmap.install-out.txt --library=/home/biocbuild/bbs-3.23-bioc/R/site-library --timings ComplexHeatmap_2.27.0.tar.gz StartedAt: 2025-11-20 22:19:39 -0500 (Thu, 20 Nov 2025) EndedAt: 2025-11-20 22:25:00 -0500 (Thu, 20 Nov 2025) EllapsedTime: 320.4 seconds RetCode: 0 Status: OK CheckDir: ComplexHeatmap.Rcheck Warnings: 0