Package: ComPrAn Version: 1.17.0 Command: /home/biocbuild/bbs-3.22-bioc/R/bin/R CMD check --install=check:ComPrAn.install-out.txt --library=/home/biocbuild/bbs-3.22-bioc/R/site-library --timings ComPrAn_1.17.0.tar.gz StartedAt: 2025-10-23 22:21:29 -0400 (Thu, 23 Oct 2025) EndedAt: 2025-10-23 22:22:47 -0400 (Thu, 23 Oct 2025) EllapsedTime: 78.0 seconds RetCode: 0 Status: OK CheckDir: ComPrAn.Rcheck Warnings: 0