Package: ComPrAn Version: 1.19.0 Command: /home/biocbuild/bbs-3.23-bioc/R/bin/R CMD INSTALL ComPrAn StartedAt: 2025-11-02 15:16:13 -0500 (Sun, 02 Nov 2025) EndedAt: 2025-11-02 15:16:25 -0500 (Sun, 02 Nov 2025) EllapsedTime: 12.1 seconds RetCode: 0 Status: OK