Package: ComPrAn Version: 1.19.0 Command: /home/biocbuild/bbs-3.23-bioc/R/bin/R CMD build --keep-empty-dirs --no-resave-data ComPrAn StartedAt: 2025-11-02 16:58:48 -0500 (Sun, 02 Nov 2025) EndedAt: 2025-11-02 16:59:10 -0500 (Sun, 02 Nov 2025) EllapsedTime: 22.0 seconds RetCode: 0 Status: OK PackageFile: ComPrAn_1.19.0.tar.gz PackageFileSize: 3.278 MiB