Package: ComPrAn Version: 1.17.0 Command: /Library/Frameworks/R.framework/Resources/bin/R CMD INSTALL ComPrAn StartedAt: 2025-10-06 15:11:12 -0400 (Mon, 06 Oct 2025) EndedAt: 2025-10-06 15:11:47 -0400 (Mon, 06 Oct 2025) EllapsedTime: 34.9 seconds RetCode: 0 Status: OK