Package: ComPrAn Version: 1.17.0 Command: /Library/Frameworks/R.framework/Resources/bin/R CMD build --keep-empty-dirs --no-resave-data ComPrAn StartedAt: 2025-10-06 16:30:38 -0400 (Mon, 06 Oct 2025) EndedAt: 2025-10-06 16:31:10 -0400 (Mon, 06 Oct 2025) EllapsedTime: 32.0 seconds RetCode: 0 Status: OK PackageFile: ComPrAn_1.17.0.tar.gz PackageFileSize: 3.351 MiB