Package: ComPrAn Version: 1.17.0 Maintainer: Petra Palenikova MaintainerEmail: palenikova3 at gmail.com git_url: https://git.bioconductor.org/packages/ComPrAn git_branch: devel git_last_commit: 00747b1 git_last_commit_date: 2025-04-15 12:21:32 -0400 (Tue, 15 Apr 2025)