Package: Cogito Version: 1.17.0 Command: /home/biocbuild/bbs-3.23-bioc/R/bin/R CMD build --keep-empty-dirs --no-resave-data Cogito StartedAt: 2025-11-20 16:55:11 -0500 (Thu, 20 Nov 2025) EndedAt: 2025-11-20 16:56:18 -0500 (Thu, 20 Nov 2025) EllapsedTime: 67.1 seconds RetCode: 0 Status: OK PackageFile: Cogito_1.17.0.tar.gz PackageFileSize: 869.4 KiB