Package: Cogito Version: 1.15.2 Command: /Library/Frameworks/R.framework/Resources/bin/R CMD INSTALL Cogito StartedAt: 2025-10-12 15:22:21 -0400 (Sun, 12 Oct 2025) EndedAt: 2025-10-12 15:22:36 -0400 (Sun, 12 Oct 2025) EllapsedTime: 15.1 seconds RetCode: 0 Status: OK